BEGIN:VCALENDAR
VERSION:2.0
PRODID:-//Český svaz žen, Petrovice u Karviné - ECPv6.15.13//NONSGML v1.0//EN
CALSCALE:GREGORIAN
METHOD:PUBLISH
X-ORIGINAL-URL:https://csz-petroviceuk.cz
X-WR-CALDESC:Akce na Český svaz žen, Petrovice u Karviné
REFRESH-INTERVAL;VALUE=DURATION:PT1H
X-Robots-Tag:noindex
X-PUBLISHED-TTL:PT1H
BEGIN:VTIMEZONE
TZID:Europe/Prague
BEGIN:DAYLIGHT
TZOFFSETFROM:+0100
TZOFFSETTO:+0200
TZNAME:CEST
DTSTART:20210328T010000
END:DAYLIGHT
BEGIN:STANDARD
TZOFFSETFROM:+0200
TZOFFSETTO:+0100
TZNAME:CET
DTSTART:20211031T010000
END:STANDARD
BEGIN:DAYLIGHT
TZOFFSETFROM:+0100
TZOFFSETTO:+0200
TZNAME:CEST
DTSTART:20220327T010000
END:DAYLIGHT
BEGIN:STANDARD
TZOFFSETFROM:+0200
TZOFFSETTO:+0100
TZNAME:CET
DTSTART:20221030T010000
END:STANDARD
BEGIN:DAYLIGHT
TZOFFSETFROM:+0100
TZOFFSETTO:+0200
TZNAME:CEST
DTSTART:20230326T010000
END:DAYLIGHT
BEGIN:STANDARD
TZOFFSETFROM:+0200
TZOFFSETTO:+0100
TZNAME:CET
DTSTART:20231029T010000
END:STANDARD
BEGIN:DAYLIGHT
TZOFFSETFROM:+0100
TZOFFSETTO:+0200
TZNAME:CEST
DTSTART:20240331T010000
END:DAYLIGHT
BEGIN:STANDARD
TZOFFSETFROM:+0200
TZOFFSETTO:+0100
TZNAME:CET
DTSTART:20241027T010000
END:STANDARD
END:VTIMEZONE
BEGIN:VEVENT
DTSTART;TZID=Europe/Prague:20230512T130000
DTEND;TZID=Europe/Prague:20230512T170000
DTSTAMP:20260421T120801
CREATED:20230111T212554Z
LAST-MODIFIED:20230111T212554Z
UID:230560-1683896400-1683910800@csz-petroviceuk.cz
SUMMARY:X. Setkání se seniorkami z Petrovic 80+
DESCRIPTION:Další setkání se seniorkami proběhne k příležitosti Dne matek\, a to 12.5.2022 od 13:00 hodin v PZKO Dolní Marklovice.
URL:https://csz-petroviceuk.cz/akce/x-setkani-se-seniorkami-z-petrovic-80/
LOCATION:Polský kulturně-osvětový svaz Dolní Marklovice\, Dolní Marklovice 151\, Petrovice u Karviné\, 735 72\, Česká republika
END:VEVENT
BEGIN:VEVENT
DTSTART;TZID=Europe/Prague:20230401T090000
DTEND;TZID=Europe/Prague:20230401T170000
DTSTAMP:20260421T120801
CREATED:20230111T212343Z
LAST-MODIFIED:20230305T172825Z
UID:230558-1680339600-1680368400@csz-petroviceuk.cz
SUMMARY:VII. velikonoční výstava
DESCRIPTION:V sobotu 1. dubna 2023 proběhne již VII. velikonoční výstava se soutěží V. Petrovický beránek \nProgram:\n9:00-12:00: výběr beránků na soutěž\nod 11:00: výstava\nv 15:30: vystoupení dětí\nv 16:00: vyhodnocení soutěže o nej… beránka
URL:https://csz-petroviceuk.cz/akce/vi-velikonocni-vystava/
LOCATION:Kulturní centrum Petrovice u Karviné\, Petrovice u Karviné 147\, Petrovice u Karviné\, 73572\, Česká republika
ATTACH;FMTTYPE=image/png:https://csz-petroviceuk.cz/wp-content/uploads/2023/01/VII.-Velikonocni-vystava.png
END:VEVENT
BEGIN:VEVENT
DTSTART;TZID=Europe/Prague:20230304T150000
DTEND;TZID=Europe/Prague:20230304T170000
DTSTAMP:20260421T120801
CREATED:20230111T212112Z
LAST-MODIFIED:20230111T212112Z
UID:230555-1677942000-1677949200@csz-petroviceuk.cz
SUMMARY:Shromáždění žen\, posezení k MDŽ\, s Godowem
DESCRIPTION:
URL:https://csz-petroviceuk.cz/akce/shromazdeni-zen-posezeni-k-mdz-s-godowem/
LOCATION:Kulturní centrum Petrovice u Karviné\, Petrovice u Karviné 147\, Petrovice u Karviné\, 73572\, Česká republika
END:VEVENT
BEGIN:VEVENT
DTSTART;TZID=Europe/Prague:20230224T190000
DTEND;TZID=Europe/Prague:20230225T020000
DTSTAMP:20260421T120801
CREATED:20230111T211515Z
LAST-MODIFIED:20230111T211515Z
UID:230552-1677265200-1677290400@csz-petroviceuk.cz
SUMMARY:XIV. babský maškarní bál
DESCRIPTION:Český svaz žen\, p.s. Petrovice u Karviné vás zve na XIV. babský maškarní bál\, který se koná 24.2.2023 od 19. hodin v Kulturním centru Petrovice u Karviné.\nK tanci a zahraje skupina UFO.
URL:https://csz-petroviceuk.cz/akce/xiv-babsky-maskarni-bal/
LOCATION:Kulturní centrum Petrovice u Karviné\, Petrovice u Karviné 147\, Petrovice u Karviné\, 73572\, Česká republika
ATTACH;FMTTYPE=image/png:https://csz-petroviceuk.cz/wp-content/uploads/2022/07/XIV.-babsky-bal.png
END:VEVENT
BEGIN:VEVENT
DTSTART;TZID=Europe/Prague:20221203T150000
DTEND;TZID=Europe/Prague:20221203T190000
DTSTAMP:20260421T120801
CREATED:20220703T152800Z
LAST-MODIFIED:20220703T153049Z
UID:230518-1670079600-1670094000@csz-petroviceuk.cz
SUMMARY:Posezení s Mikulášem (akce pro děti)
DESCRIPTION:
URL:https://csz-petroviceuk.cz/akce/posezeni-s-mikulasem-akce-pro-deti/
LOCATION:Kulturní centrum Petrovice u Karviné\, Petrovice u Karviné 147\, Petrovice u Karviné\, 73572\, Česká republika
END:VEVENT
BEGIN:VEVENT
DTSTART;TZID=Europe/Prague:20221112T150000
DTEND;TZID=Europe/Prague:20221112T190000
DTSTAMP:20260421T120801
CREATED:20220703T152224Z
LAST-MODIFIED:20220703T152649Z
UID:230514-1668265200-1668279600@csz-petroviceuk.cz
SUMMARY:Členská schůze k 55. výročí založení ČSŽ
DESCRIPTION:
URL:https://csz-petroviceuk.cz/akce/clenska-schuze-k-55-vyroci-zalozeni-csz/
LOCATION:Kulturní centrum Petrovice u Karviné\, Petrovice u Karviné 147\, Petrovice u Karviné\, 73572\, Česká republika
END:VEVENT
BEGIN:VEVENT
DTSTART;TZID=Europe/Prague:20220910T083000
DTEND;TZID=Europe/Prague:20220910T130000
DTSTAMP:20260421T120801
CREATED:20220703T152530Z
LAST-MODIFIED:20220703T152702Z
UID:230516-1662798600-1662814800@csz-petroviceuk.cz
SUMMARY:IV. vaření v rámci Synergie s polskými Golkovicemi
DESCRIPTION:
URL:https://csz-petroviceuk.cz/akce/iv-vareni-v-ramci-synergie-s-polskymi-golkovicemi/
LOCATION:Kulturní centrum Petrovice u Karviné\, Petrovice u Karviné 147\, Petrovice u Karviné\, 73572\, Česká republika
END:VEVENT
BEGIN:VEVENT
DTSTART;TZID=Europe/Prague:20220702T120000
DTEND;TZID=Europe/Prague:20220702T170000
DTSTAMP:20260421T120801
CREATED:20220315T203057Z
LAST-MODIFIED:20220630T060936Z
UID:230507-1656763200-1656781200@csz-petroviceuk.cz
SUMMARY:V. ročník Gulášfestu
DESCRIPTION:2.7.2022 od 12:00 hodin proběhne již V. ročník Gulášfestu\nZahraje: UFO
URL:https://csz-petroviceuk.cz/akce/v-rocnik-gulasfestu/
LOCATION:TJ Inter Petrovice\, Petrovice u Karviné 841\, Petrovice u Karviné\, 735 72\, Czech Republic
ATTACH;FMTTYPE=image/png:https://csz-petroviceuk.cz/wp-content/uploads/2022/03/Gulasfest-2022.png
END:VEVENT
BEGIN:VEVENT
DTSTART;TZID=Europe/Prague:20220506T140000
DTEND;TZID=Europe/Prague:20220506T173000
DTSTAMP:20260421T120801
CREATED:20220315T195855Z
LAST-MODIFIED:20220315T203556Z
UID:230499-1651845600-1651858200@csz-petroviceuk.cz
SUMMARY:Setkání se seniorkami ke Dni matek
DESCRIPTION:Další setkání se seniorkami proběhne k příležitosti Dne matek\, a to 6.5.2022 od 14:00 hodin v PZKO Dolní Marklovice. Od 15:00 hodin nás čeká jízda kočárem.
URL:https://csz-petroviceuk.cz/akce/setkani-se-seniorkami-ke-dni-matek/
LOCATION:Polský kulturně-osvětový svaz Dolní Marklovice\, Dolní Marklovice 151\, Petrovice u Karviné\, 735 72\, Česká republika
END:VEVENT
BEGIN:VEVENT
DTSTART;TZID=Europe/Prague:20220409T090000
DTEND;TZID=Europe/Prague:20220409T160000
DTSTAMP:20260421T120801
CREATED:20220315T203517Z
LAST-MODIFIED:20220315T203521Z
UID:230509-1649494800-1649520000@csz-petroviceuk.cz
SUMMARY:V. velikonoční výstava
DESCRIPTION:V sobotu 9. dubna 2022 proběhne již V. velikonoční výstava se soutěží III. Petrovický beránek \nProgram:\n9:00-12:00: výběr beránků na soutěž\nod 10:00: výstava\nve 14:30? hodnocení soutěže o nej… beránka\nv 15:00: jako vždy překvapíme
URL:https://csz-petroviceuk.cz/akce/v-velikonocni-vystava/
LOCATION:Kulturní centrum Petrovice u Karviné\, Petrovice u Karviné 147\, Petrovice u Karviné\, 73572\, Česká republika
END:VEVENT
BEGIN:VEVENT
DTSTART;TZID=Europe/Prague:20220319T190000
DTEND;TZID=Europe/Prague:20220320T023000
DTSTAMP:20260421T120801
CREATED:20220111T213809Z
LAST-MODIFIED:20220315T211009Z
UID:230387-1647716400-1647743400@csz-petroviceuk.cz
SUMMARY:Josefovská zábava
DESCRIPTION:ČSŽ Petrovice u Karviné vás zve v sobotu 19.3.2022 od 19. hodin v Kulturním centru Petrovice u Karviné na Josefovskou zábavu. \nHraje: UFO \nPřijďte se pobavit a řiďte se naším mottem: „NESEĎTE DOMA\, PŘIJĎTE MEZI NÁS“
URL:https://csz-petroviceuk.cz/akce/josefovska-zabava/
LOCATION:Kulturní centrum Petrovice u Karviné\, Petrovice u Karviné 147\, Petrovice u Karviné\, 73572\, Česká republika
END:VEVENT
BEGIN:VEVENT
DTSTART;TZID=Europe/Prague:20220218T190000
DTEND;TZID=Europe/Prague:20220219T020000
DTSTAMP:20260421T120801
CREATED:20211204T180956Z
LAST-MODIFIED:20220111T213418Z
UID:230245-1645210800-1645236000@csz-petroviceuk.cz
SUMMARY:XIII. babský maškarní bál
DESCRIPTION:Již XIV. ročník maškarního bálu pořádaného ČSŽ Petrovice u Karviné proběhne v pátek 18.2.2022 od 19. hodin v Kulturním centru Petrovice u Karviné. \nHraje: B band \nPřijďte se pobavit a řiďte se naším mottem: „NESEĎTE DOMA\, PŘIJĎTE MEZI NÁS“
URL:https://csz-petroviceuk.cz/akce/xiii-babsky-maskarni-bal/
LOCATION:Kulturní centrum Petrovice u Karviné\, Petrovice u Karviné 147\, Petrovice u Karviné\, 73572\, Česká republika
ATTACH;FMTTYPE=image/png:https://csz-petroviceuk.cz/wp-content/uploads/2021/12/XIV.-bal-web.png
END:VEVENT
END:VCALENDAR