BEGIN:VCALENDAR
VERSION:2.0
PRODID:-//Český svaz žen, Petrovice u Karviné - ECPv6.15.13//NONSGML v1.0//EN
CALSCALE:GREGORIAN
METHOD:PUBLISH
X-ORIGINAL-URL:https://csz-petroviceuk.cz
X-WR-CALDESC:Akce na Český svaz žen, Petrovice u Karviné
REFRESH-INTERVAL;VALUE=DURATION:PT1H
X-Robots-Tag:noindex
X-PUBLISHED-TTL:PT1H
BEGIN:VTIMEZONE
TZID:Europe/Prague
BEGIN:DAYLIGHT
TZOFFSETFROM:+0100
TZOFFSETTO:+0200
TZNAME:CEST
DTSTART:20240331T010000
END:DAYLIGHT
BEGIN:STANDARD
TZOFFSETFROM:+0200
TZOFFSETTO:+0100
TZNAME:CET
DTSTART:20241027T010000
END:STANDARD
BEGIN:DAYLIGHT
TZOFFSETFROM:+0100
TZOFFSETTO:+0200
TZNAME:CEST
DTSTART:20250330T010000
END:DAYLIGHT
BEGIN:STANDARD
TZOFFSETFROM:+0200
TZOFFSETTO:+0100
TZNAME:CET
DTSTART:20251026T010000
END:STANDARD
BEGIN:DAYLIGHT
TZOFFSETFROM:+0100
TZOFFSETTO:+0200
TZNAME:CEST
DTSTART:20260329T010000
END:DAYLIGHT
BEGIN:STANDARD
TZOFFSETFROM:+0200
TZOFFSETTO:+0100
TZNAME:CET
DTSTART:20261025T010000
END:STANDARD
END:VTIMEZONE
BEGIN:VEVENT
DTSTART;TZID=Europe/Prague:20250506T150000
DTEND;TZID=Europe/Prague:20250506T170000
DTSTAMP:20260426T021303
CREATED:20250409T121614Z
LAST-MODIFIED:20250409T121614Z
UID:230676-1746543600-1746550800@csz-petroviceuk.cz
SUMMARY:XI. Setkání se seniorkami z Petrovic
DESCRIPTION:Setkání se seniorkami z Petrovic nad 80 let. XI. ročník.\nMísto: PZKO\, Marklovice\, č.151\, KC Petrovice
URL:https://csz-petroviceuk.cz/akce/xi-setkani-se-seniorkami-z-petrovic/
LOCATION:Polský kulturně-osvětový svaz Dolní Marklovice\, Dolní Marklovice 151\, Petrovice u Karviné\, 735 72\, Česká republika
ORGANIZER;CN="%C4%8Cesk%C3%BD svaz %C5%BEen":MAILTO:info@csz-petroviceuk.cz
END:VEVENT
BEGIN:VEVENT
DTSTART;VALUE=DATE:20250526
DTEND;VALUE=DATE:20250529
DTSTAMP:20260426T021303
CREATED:20250409T121718Z
LAST-MODIFIED:20250409T121718Z
UID:230680-1748217600-1748476799@csz-petroviceuk.cz
SUMMARY:IV. výjezdní zasedání Rady
DESCRIPTION:IV. výjezdní zasedání Rady v Lomné
URL:https://csz-petroviceuk.cz/akce/iv-vyjezdni-zasedani-rady/
END:VEVENT
BEGIN:VEVENT
DTSTART;TZID=Europe/Prague:20250531T080000
DTEND;TZID=Europe/Prague:20250531T170000
DTSTAMP:20260426T021303
CREATED:20250409T121922Z
LAST-MODIFIED:20250409T121922Z
UID:230682-1748678400-1748710800@csz-petroviceuk.cz
SUMMARY:Mezinárodní den dětí
DESCRIPTION:
URL:https://csz-petroviceuk.cz/akce/mezinarodni-den-deti-2/
LOCATION:TJ Inter Petrovice\, Petrovice u Karviné 841\, Petrovice u Karviné\, 735 72\, Czech Republic
END:VEVENT
END:VCALENDAR