BEGIN:VCALENDAR
VERSION:2.0
PRODID:-//Český svaz žen, Petrovice u Karviné - ECPv6.15.13//NONSGML v1.0//EN
CALSCALE:GREGORIAN
METHOD:PUBLISH
X-ORIGINAL-URL:https://csz-petroviceuk.cz
X-WR-CALDESC:Akce na Český svaz žen, Petrovice u Karviné
REFRESH-INTERVAL;VALUE=DURATION:PT1H
X-Robots-Tag:noindex
X-PUBLISHED-TTL:PT1H
BEGIN:VTIMEZONE
TZID:Europe/Prague
BEGIN:DAYLIGHT
TZOFFSETFROM:+0100
TZOFFSETTO:+0200
TZNAME:CEST
DTSTART:20240331T010000
END:DAYLIGHT
BEGIN:STANDARD
TZOFFSETFROM:+0200
TZOFFSETTO:+0100
TZNAME:CET
DTSTART:20241027T010000
END:STANDARD
BEGIN:DAYLIGHT
TZOFFSETFROM:+0100
TZOFFSETTO:+0200
TZNAME:CEST
DTSTART:20250330T010000
END:DAYLIGHT
BEGIN:STANDARD
TZOFFSETFROM:+0200
TZOFFSETTO:+0100
TZNAME:CET
DTSTART:20251026T010000
END:STANDARD
BEGIN:DAYLIGHT
TZOFFSETFROM:+0100
TZOFFSETTO:+0200
TZNAME:CEST
DTSTART:20260329T010000
END:DAYLIGHT
BEGIN:STANDARD
TZOFFSETFROM:+0200
TZOFFSETTO:+0100
TZNAME:CET
DTSTART:20261025T010000
END:STANDARD
END:VTIMEZONE
BEGIN:VEVENT
DTSTART;TZID=Europe/Prague:20250315T150000
DTEND;TZID=Europe/Prague:20250315T170000
DTSTAMP:20260426T021331
CREATED:20250305T181828Z
LAST-MODIFIED:20250305T182105Z
UID:230666-1742050800-1742058000@csz-petroviceuk.cz
SUMMARY:Shromáždění žen\, posezení k MDŽ\, s Godowem a ONKO
DESCRIPTION:Shromáždění žen a posezení k Mezinárodnímu dni žen\, spolu s Godowem\, ONKO\nčlenská schůze\nMísto: velký sál\, Kulturní centrum Petrovice\, č. 147
URL:https://csz-petroviceuk.cz/akce/shromazdeni-zen-posezeni-k-mdz-s-godowem-2/
LOCATION:Kulturní centrum Petrovice u Karviné\, Petrovice u Karviné 147\, Petrovice u Karviné\, 73572\, Česká republika
ORGANIZER;CN="%C4%8Cesk%C3%BD svaz %C5%BEen":MAILTO:info@csz-petroviceuk.cz
END:VEVENT
END:VCALENDAR