BEGIN:VCALENDAR
VERSION:2.0
PRODID:-//Český svaz žen, Petrovice u Karviné - ECPv6.15.13//NONSGML v1.0//EN
CALSCALE:GREGORIAN
METHOD:PUBLISH
X-ORIGINAL-URL:https://csz-petroviceuk.cz
X-WR-CALDESC:Akce na Český svaz žen, Petrovice u Karviné
REFRESH-INTERVAL;VALUE=DURATION:PT1H
X-Robots-Tag:noindex
X-PUBLISHED-TTL:PT1H
BEGIN:VTIMEZONE
TZID:Europe/Prague
BEGIN:DAYLIGHT
TZOFFSETFROM:+0100
TZOFFSETTO:+0200
TZNAME:CEST
DTSTART:20240331T010000
END:DAYLIGHT
BEGIN:STANDARD
TZOFFSETFROM:+0200
TZOFFSETTO:+0100
TZNAME:CET
DTSTART:20241027T010000
END:STANDARD
BEGIN:DAYLIGHT
TZOFFSETFROM:+0100
TZOFFSETTO:+0200
TZNAME:CEST
DTSTART:20250330T010000
END:DAYLIGHT
BEGIN:STANDARD
TZOFFSETFROM:+0200
TZOFFSETTO:+0100
TZNAME:CET
DTSTART:20251026T010000
END:STANDARD
BEGIN:DAYLIGHT
TZOFFSETFROM:+0100
TZOFFSETTO:+0200
TZNAME:CEST
DTSTART:20260329T010000
END:DAYLIGHT
BEGIN:STANDARD
TZOFFSETFROM:+0200
TZOFFSETTO:+0100
TZNAME:CET
DTSTART:20261025T010000
END:STANDARD
END:VTIMEZONE
BEGIN:VEVENT
DTSTART;TZID=Europe/Prague:20250221T190000
DTEND;TZID=Europe/Prague:20250222T020000
DTSTAMP:20260426T021315
CREATED:20241216T084916Z
LAST-MODIFIED:20241216T102352Z
UID:230657-1740164400-1740189600@csz-petroviceuk.cz
SUMMARY:XVI. babský maškarní bál
DESCRIPTION:Český svaz žen\, p.s. Petrovice u Karviné vás zve na XVI. babský maškarní bál\, který se koná 21.2.2025 od 19. hodin v Kulturním centru Petrovice u Karviné.
URL:https://csz-petroviceuk.cz/akce/xvi-babsky-maskarni-bal/
LOCATION:Kulturní centrum Petrovice u Karviné\, Petrovice u Karviné 147\, Petrovice u Karviné\, 73572\, Česká republika
END:VEVENT
END:VCALENDAR