BEGIN:VCALENDAR
VERSION:2.0
PRODID:-//Český svaz žen, Petrovice u Karviné - ECPv6.15.13//NONSGML v1.0//EN
CALSCALE:GREGORIAN
METHOD:PUBLISH
X-WR-CALNAME:Český svaz žen, Petrovice u Karviné
X-ORIGINAL-URL:https://csz-petroviceuk.cz
X-WR-CALDESC:Akce na Český svaz žen, Petrovice u Karviné
REFRESH-INTERVAL;VALUE=DURATION:PT1H
X-Robots-Tag:noindex
X-PUBLISHED-TTL:PT1H
BEGIN:VTIMEZONE
TZID:Europe/Prague
BEGIN:DAYLIGHT
TZOFFSETFROM:+0100
TZOFFSETTO:+0200
TZNAME:CEST
DTSTART:20230326T010000
END:DAYLIGHT
BEGIN:STANDARD
TZOFFSETFROM:+0200
TZOFFSETTO:+0100
TZNAME:CET
DTSTART:20231029T010000
END:STANDARD
BEGIN:DAYLIGHT
TZOFFSETFROM:+0100
TZOFFSETTO:+0200
TZNAME:CEST
DTSTART:20240331T010000
END:DAYLIGHT
BEGIN:STANDARD
TZOFFSETFROM:+0200
TZOFFSETTO:+0100
TZNAME:CET
DTSTART:20241027T010000
END:STANDARD
BEGIN:DAYLIGHT
TZOFFSETFROM:+0100
TZOFFSETTO:+0200
TZNAME:CEST
DTSTART:20250330T010000
END:DAYLIGHT
BEGIN:STANDARD
TZOFFSETFROM:+0200
TZOFFSETTO:+0100
TZNAME:CET
DTSTART:20251026T010000
END:STANDARD
END:VTIMEZONE
BEGIN:VEVENT
DTSTART;TZID=Europe/Prague:20240509T150000
DTEND;TZID=Europe/Prague:20240509T170000
DTSTAMP:20260426T021102
CREATED:20240107T182449Z
LAST-MODIFIED:20240107T182449Z
UID:230610-1715266800-1715274000@csz-petroviceuk.cz
SUMMARY:Setkání se seniorkami nad 80 let v PZKO Marklovice
DESCRIPTION:
URL:https://csz-petroviceuk.cz/akce/setkani-se-seniorkami-nad-80-let-v-pzko-marklovice/
LOCATION:Polský kulturně-osvětový svaz Dolní Marklovice\, Dolní Marklovice 151\, Petrovice u Karviné\, 735 72\, Česká republika
END:VEVENT
BEGIN:VEVENT
DTSTART;VALUE=DATE:20240525
DTEND;VALUE=DATE:20240526
DTSTAMP:20260426T021102
CREATED:20240107T182522Z
LAST-MODIFIED:20240107T182522Z
UID:230612-1716595200-1716681599@csz-petroviceuk.cz
SUMMARY:Zájezd do Bojnic -  Slovensko
DESCRIPTION:
URL:https://csz-petroviceuk.cz/akce/zajezd-do-bojnic-slovensko/
END:VEVENT
END:VCALENDAR