BEGIN:VCALENDAR
VERSION:2.0
PRODID:-//Český svaz žen, Petrovice u Karviné - ECPv6.15.13//NONSGML v1.0//EN
CALSCALE:GREGORIAN
METHOD:PUBLISH
X-ORIGINAL-URL:https://csz-petroviceuk.cz
X-WR-CALDESC:Akce na Český svaz žen, Petrovice u Karviné
REFRESH-INTERVAL;VALUE=DURATION:PT1H
X-Robots-Tag:noindex
X-PUBLISHED-TTL:PT1H
BEGIN:VTIMEZONE
TZID:Europe/Prague
BEGIN:DAYLIGHT
TZOFFSETFROM:+0100
TZOFFSETTO:+0200
TZNAME:CEST
DTSTART:20230326T010000
END:DAYLIGHT
BEGIN:STANDARD
TZOFFSETFROM:+0200
TZOFFSETTO:+0100
TZNAME:CET
DTSTART:20231029T010000
END:STANDARD
BEGIN:DAYLIGHT
TZOFFSETFROM:+0100
TZOFFSETTO:+0200
TZNAME:CEST
DTSTART:20240331T010000
END:DAYLIGHT
BEGIN:STANDARD
TZOFFSETFROM:+0200
TZOFFSETTO:+0100
TZNAME:CET
DTSTART:20241027T010000
END:STANDARD
BEGIN:DAYLIGHT
TZOFFSETFROM:+0100
TZOFFSETTO:+0200
TZNAME:CEST
DTSTART:20250330T010000
END:DAYLIGHT
BEGIN:STANDARD
TZOFFSETFROM:+0200
TZOFFSETTO:+0100
TZNAME:CET
DTSTART:20251026T010000
END:STANDARD
END:VTIMEZONE
BEGIN:VEVENT
DTSTART;TZID=Europe/Prague:20240316T150000
DTEND;TZID=Europe/Prague:20240316T170000
DTSTAMP:20260426T021314
CREATED:20240107T182252Z
LAST-MODIFIED:20240107T182252Z
UID:230606-1710601200-1710608400@csz-petroviceuk.cz
SUMMARY:Členská schůze k MDŽ a posezení s jubilantkami
DESCRIPTION:
URL:https://csz-petroviceuk.cz/akce/clenska-schuze-k-mdz-a-posezeni-s-jubilantkami/
LOCATION:Kulturní centrum Petrovice u Karviné\, Petrovice u Karviné 147\, Petrovice u Karviné\, 73572\, Česká republika
END:VEVENT
END:VCALENDAR